BEGIN:VCALENDAR
VERSION:2.0
PRODID:-//Don Garlits Museum of Drag Racing - ECPv6.15.20//NONSGML v1.0//EN
CALSCALE:GREGORIAN
METHOD:PUBLISH
X-WR-CALNAME:Don Garlits Museum of Drag Racing
X-ORIGINAL-URL:https://garlits.com
X-WR-CALDESC:Events for Don Garlits Museum of Drag Racing
REFRESH-INTERVAL;VALUE=DURATION:PT1H
X-Robots-Tag:noindex
X-PUBLISHED-TTL:PT1H
BEGIN:VTIMEZONE
TZID:UTC
BEGIN:STANDARD
TZOFFSETFROM:+0000
TZOFFSETTO:+0000
TZNAME:UTC
DTSTART:20250101T000000
END:STANDARD
END:VTIMEZONE
BEGIN:VEVENT
DTSTART;VALUE=DATE:20261106
DTEND;VALUE=DATE:20261109
DTSTAMP:20260424T081818
CREATED:20260326T023434Z
LAST-MODIFIED:20260422T155527Z
UID:10000006-1793923200-1794182399@garlits.com
SUMMARY:The 2026 Mopars with Big Daddy
DESCRIPTION:The 39th Annual Mopars with Big Daddy will be held November 7th & 8th.  This year we will again be raising money for St. Jude Children’s Hospital. Proceeds from the raffle and auction will go to helping children fighting cancer. St. Jude Children’s Hospital treats children with cancer and provides assistance to families to be with their child during treatment at NO CHARGE.  The Marion County Sheriff’s Office Explorer Post will again in 2026 be parking spectators; part of the money from parking will be donated to the Explorer Post.  If you are a company or individual who would like to donate item/s for the St. Jude Children’s Hospital fundraiser please contact the museum; information below. \nThe 2026 Mopars with Big Daddy will feature events with Don. Friday November 6th  Phillips Chrysler Dodge Jeep Ram of Ocala presents the Friday Night Dinner and Q&A with Don. The dinner will begin at 6:30 PM at the pavilion located outside the Antique Building. The Q&A will be held at 8:00 PM inside the main museum building. \nOn Saturday\, November 1st\, after the car show Don will give a tour inside the museum of the cars that have a story behind them.  The tour will begin at 5:00 pm and will be limited to 25 people. The cost is $75.00 a person.  Due to the limited spaces make sure you register for the tour. \n2026 marks the 50th Anniversary of the Don Garlits Museum of Drag Racing to mark this anniversary we are pleased to announce that the First Lady of Drag Racing Shirley Muldowney will be participating in the celebration and will be present during the Mopars with Big Daddy.  She will  be available for autographs\, photos\, and have exclusive Shirley Muldowney items for sale. Shirley also will be participating in the Q&A with Don on Friday night. \nPricing for the Mopars with Big Daddy are as follows:  \nCar Show Registration: Pre-Registration $40.00\, Day of Event $45.00\n20’ X20’ Vendor Space: Pre-Registration $55.00\, Day of Event $65.00\nCar Coral Space: Pre-Registration $45.00\, Day of Event $50.00\nDry Camp RV Spot: $25.00\nFriday Night Dinner $45.00\nSaturday Night Tour $75.00\nSpectator Parking $5.00\nSpectator Show Entrance $0.00 \n** Last day to pre-register November 4\, 2026 **\n** Last day to register for Friday Night Dinner October 30\,2026** \nYou can pre-register for the show by going to the  Gift Shop page\, on the left side click on the Mopar Show box\, then select the pre-registration item\, add the item to your cart and then begin the check out. \nYou can register by mail by downloading the form from the link below.\nMake checks payable to Don Garlits Museum of Drag Racing and mail to Don Garlits Museum of Drag Racing 13700 SW 16th Avenue\, Ocala\, Florida 34473. \n  \nHere is the daily schedule for the 2026 Mopars with Big Daddy. These schedules are subject to change and to updates. \n  \nFriday November 6th  \n8:00 AM Gates open to Vendors for Set Up\n5:00-6:30 PM Museum open to individuals participating in the Dinner & Q&A\n6:30 PM Dinner starts under the Pavilion\n8:00 PM Q&A with Don Garlits & Shirley Muldowney begins in the Museum \nSaturday November 7th  \n8:00 AM Gates Open\n2:30 PM Fundraiser Raffle/Auction for St. Jude Fundraiser\n3:30 PM Participant Judging Trophies Awarded.\n5:00 PM Saturday Night Tour with Don \nSunday November 8th \n8:00 AM Gates Open\n2:30 PM Fundraiser Raffle/Auction for St. Jude Fundraiser\n3:00 PM Judged Show Trophies Awarded. \n  \nDuring the show on Saturday & Sunday the museum grounds will be for Vendors\, Car Show Participants\, and Spectators walking around. All other traffic will enter from the Spectator Parking area located on the farm to the south of the museum at 14050 SW 16th Avenue. Those needing Handicap Parking will be directed where to go to access Handicap Spaces on the museum grounds while spaces are available. \nWe are pleased to announce that Magrich Photography will be at the show taking photographs of the cars that participate in the show.  Magrich Photography \nThe Sleep Inn next door to the museum has a block of rooms for the show. Reservations must be made by October 7\, 2026 to receive the show rate. You can visit this link to make your  reservation.  https://www.choicehotels.com/reservations/groups/RZ62Z2  \nWe also have a block of rooms reserved at the Spring Hill Suites by Marriott Ocala located at 4100 SW 40th Street\, Ocala FL. 34474 352-500-0501.  If  you call the hotel please select prompt for Front Desk. Give Mopars Big Daddy 2026  to get the blocked room and room rate. The last day to make your reservation under this bock is October 7\, 2026.  Book your group rate for Mopar’s Big Daddy 2026 \n  \nFor more information please call:\nVendor Questions call Shari at 352-446-3562\nShow Information call Jim at 813-493-2970 \n  \nBusinesses or individuals who would like to donate to the fundraiser for St. Jude Children’s Hospital please contact Chuck at 352-245-8661 or chuck@garlits.com. \n  \n  \nIf you wish to register by mail\, please click and download the Registration Form. \n2026 Event Sponsors\n  \n  \n  \nWe would like to thank the below companies for their support of the 39th Annual Mopar Show by donating items for the  Fundraiser. \n  \n                   \n  \n  \n 
URL:https://garlits.com/event/the-2026-mopars-with-big-daddy-2/
LOCATION:Don Garlits Museum of Drag Racing\, 13700 SW 16th Ave\, Ocala\, FL\, 34473\, United States
END:VEVENT
END:VCALENDAR